BEGIN:VCALENDAR
VERSION:2.0
PRODID:-//ChamberMaster//Event Calendar 2.0//EN
METHOD:PUBLISH
X-PUBLISHED-TTL:P3D
REFRESH-INTERVAL:P3D
CALSCALE:GREGORIAN
BEGIN:VEVENT
DTSTART:20260610T173000Z
DTEND:20260610T190000Z
X-MICROSOFT-CDO-ALLDAYEVENT:FALSE
SUMMARY:Member Only Learning Lunch with JBW Solutions - Fire Prevention
DESCRIPTION:Join us for our Monthly Members-Only Learning Lunch!\n\nThis month\, JBW Solutions LLC will be presenting on Fire Prevention an important topic for keeping your workplace and community safe.\n\n  Wednesday\, June 10\n\n  11:30 AM   1:00 PM\n\nLunch will be provided by Mewbourne Oil Co.\n\nDon't miss this opportunity to learn\, connect\, and enjoy a great meal with fellow members. We look forward to seeing you there!
X-ALT-DESC;FMTTYPE=text/html:<p class="isSelectedEnd">Join us for our <strong>Monthly Members-Only Learning Lunch</strong>!</p>\n\n<p class="isSelectedEnd">This month\, JBW Solutions LLC will be presenting on <strong>Fire Prevention</strong>&mdash\;an important topic for keeping your workplace and community safe.</p>\n\n<p class="isSelectedEnd">&#128467\; <strong>Wednesday\, June 10</strong><br />\n&#9200\; <strong>11:30 AM &ndash\; 1:00 PM</strong></p>\n\n<p class="isSelectedEnd">Lunch will be provided by Mewbourne Oil Co.</p>\n\n<p>Don&rsquo\;t miss this opportunity to learn\, connect\, and enjoy a great meal with fellow members. We look forward to seeing you there!</p>\n
LOCATION:400 N Marland Blvd Hobbs\, NM
UID:e.270.5292
SEQUENCE:3
DTSTAMP:20260420T221018Z
URL:http://business.hobbs.sks.com/events/details/member-only-learning-lunch-with-jbw-solutions-fire-prevention-5292
END:VEVENT

END:VCALENDAR
