BEGIN:VCALENDAR
VERSION:2.0
PRODID:-//ChamberMaster//Event Calendar 2.0//EN
METHOD:PUBLISH
X-PUBLISHED-TTL:P3D
REFRESH-INTERVAL:P3D
CALSCALE:GREGORIAN
BEGIN:VEVENT
DTSTART:20260428T180000Z
DTEND:20260428T200000Z
X-MICROSOFT-CDO-ALLDAYEVENT:FALSE
SUMMARY:Covenant Health Hobbs Hospital Outpatient Therapy Clinic Ribbon Cutting
DESCRIPTION:Ribbon Cutting for Outpatient Therapy Clinic
X-ALT-DESC;FMTTYPE=text/html:Ribbon Cutting for Outpatient Therapy Clinic
LOCATION:5419 N Lovington Highway Building 3 Suite 16/17 Hobbs\, NM 88240
UID:e.270.5291
SEQUENCE:3
DTSTAMP:20260420T192353Z
URL:http://business.hobbs.sks.com/events/details/covenant-health-hobbs-hospital-outpatient-therapy-clinic-ribbon-cutting-5291
END:VEVENT

END:VCALENDAR
